BEGIN:VCALENDAR
VERSION:2.0
PRODID:DPCALENDAR
CALSCALE:GREGORIAN
X-WR-TIMEZONE:UTC
BEGIN:VEVENT
DTSTART:20160423T180000Z
DTEND:20160423T200000Z
UID:8b71a07cc665151274341a79c8e9347a
SUMMARY:Big Band Berne im Volkshaus Berne
DTSTAMP:20141121T073119Z
DESCRIPTION: Mit viel Liebe zum Swing spielt das „Vereinsorchester des tus BERNE e.V.“ Titel von Frank Sinatra, Duke Ellington und Glenn Miller bis hin zu Robbie Williams. Ob instrumental oder mit Gesang, ein Hinhören lohnt sich immer. So zum Beispiel auch wieder am Samstag, dem 23.04.2016, beim Konzert, um 20:00 Uhr, im Volkshaus Berne. \NKarten: Erwachsene Euro 14,- (tus BERNE-Mitglieder Euro 12,-), Schüler/Auszubildende Euro 5,- \NWer mehr über uns erfahren möchte, findet uns im Internet unter www.bigbandberne.de oder auf Facebook.
X-ALT-DESC;FMTTYPE=text/html:<p><span style="color: black; font-size: 8pt;"> Mit viel Liebe zum Swing spielt das „Vereinsorchester des tus BERNE e.V.“ Titel von Frank Sinatra, Duke Ellington und Glenn Miller bis hin zu Robbie Williams. Ob instrumental oder mit Gesang, ein Hinhören lohnt sich immer. So zum Beispiel auch wieder am Samstag, dem 23.04.2016, beim Konzert, um 20:00 Uhr, im Volkshaus Berne. </span></p><p><span style="color: black; font-size: 8pt;">Karten: Erwachsene Euro 14,- (tus BERNE-Mitglieder Euro 12,-), Schüler/Auszubildende Euro 5,- </span></p><p><span style="color: black; font-size: 8pt;">Wer mehr über uns erfahren möchte, findet uns im Internet unter</span><br /><br /><span style="font-size: 8pt;"> <a href="http://www.bigbandberne.de">www.bigbandberne.de</a><span style="color: blue;"> </span><span style="color: black;">oder auf Facebook.</span></span><br /><br /></p>
X-ACCESS:1
X-MODIFIED:20160421T101433Z
X-HITS:2663
X-URL:www.bigbandberne.de
X-COLOR:
END:VEVENT
END:VCALENDAR